BEGIN:VCALENDAR
VERSION:2.0
PRODID:-//The Vehicle Remarketing Association - ECPv6.15.5//NONSGML v1.0//EN
CALSCALE:GREGORIAN
METHOD:PUBLISH
X-ORIGINAL-URL:https://thevra.co.uk
X-WR-CALDESC:Events for The Vehicle Remarketing Association
REFRESH-INTERVAL;VALUE=DURATION:PT1H
X-Robots-Tag:noindex
X-PUBLISHED-TTL:PT1H
BEGIN:VTIMEZONE
TZID:Europe/London
BEGIN:DAYLIGHT
TZOFFSETFROM:+0000
TZOFFSETTO:+0100
TZNAME:BST
DTSTART:20260329T010000
END:DAYLIGHT
BEGIN:STANDARD
TZOFFSETFROM:+0100
TZOFFSETTO:+0000
TZNAME:GMT
DTSTART:20261025T010000
END:STANDARD
END:VTIMEZONE
BEGIN:VEVENT
DTSTART;TZID=Europe/London:20260514T100000
DTEND;TZID=Europe/London:20260514T130000
DTSTAMP:20260420T160128
CREATED:20251126T100111Z
LAST-MODIFIED:20260416T124640Z
UID:19450-1778752800-1778763600@thevra.co.uk
SUMMARY:VRA member meeting May 2026
DESCRIPTION:Date: May 14 2026 \nTime: 10am-1pm \nTopic: Emerging logistics and storage issues \nSpeakers: Tom Marley\, director of digital wholesale at Cox Automotive Europe; James Hopkins\, managing director at DMN Logistics\, Simon Jackson\, managing director at Vehicle Quality Services\, VRA legal counsel Jonathan Butler\, partner at Geldards\, Mark Fretwell\, CEO of One Auto API and Rupert Pontin\, head of insight and communications at Brego. \nLocation: Cox Automotive’s Innovation Centre at Bruntingthorpe\, Leicestershire\, LE17 5QS \nUpcoming important dates: \n\nThursday 2 July\nThursday 24 September\nThursday 26 November (2026 Summit\, tbc)
URL:https://thevra.co.uk/event/vra-member-meeting-may-2026/
END:VEVENT
BEGIN:VEVENT
DTSTART;TZID=Europe/London:20260702T100000
DTEND;TZID=Europe/London:20260702T130000
DTSTAMP:20260420T160128
CREATED:20251126T100457Z
LAST-MODIFIED:20251127T094520Z
UID:19452-1782986400-1782997200@thevra.co.uk
SUMMARY:VRA AGM July 2026
DESCRIPTION:Date: July 2 2026 \nTime: 10am-1pm \nTopic: TBC \nSpeakers: TBC \nLocation: BCA\, Perry Barr\, Birmingham \nUpcoming important dates: \n\nThursday 24 September\nThursday 26 November (2026 Summit\, tbc)
URL:https://thevra.co.uk/event/vra-agm-july-2026/
END:VEVENT
BEGIN:VEVENT
DTSTART;TZID=Europe/London:20260924T100000
DTEND;TZID=Europe/London:20260924T130000
DTSTAMP:20260420T160128
CREATED:20251126T100638Z
LAST-MODIFIED:20251126T100638Z
UID:19454-1790244000-1790254800@thevra.co.uk
SUMMARY:VRA member meeting September 2026
DESCRIPTION:Date: September 24 2026 \nTime: 10am-1pm \nTopic: TBC \nSpeakers: TBC \nLocation: Cox Automotive’s Innovation Centre at Bruntingthorpe\, Leicestershire\, LE17 5QS \nUpcoming important dates: \n\nThursday 26 November (2026 Summit\, tbc)
URL:https://thevra.co.uk/event/vra-member-meeting-september-2026/
END:VEVENT
BEGIN:VEVENT
DTSTART;TZID=Europe/London:20261126T090000
DTEND;TZID=Europe/London:20261126T160000
DTSTAMP:20260420T160128
CREATED:20251126T101012Z
LAST-MODIFIED:20251126T101012Z
UID:19456-1795683600-1795708800@thevra.co.uk
SUMMARY:VRA member meeting November 2026
DESCRIPTION:Date: November 26 2026 (TBC) \nTime: 9am-4pm \nTopic: TBC \nSpeakers: TBC \nLocation: TBC \nUpcoming important dates: \n\nTBC
URL:https://thevra.co.uk/event/vra-member-meeting-november-2026/
END:VEVENT
END:VCALENDAR