BEGIN:VCALENDAR
VERSION:2.0
PRODID:-//The Vehicle Remarketing Association - ECPv6.15.5//NONSGML v1.0//EN
CALSCALE:GREGORIAN
METHOD:PUBLISH
X-ORIGINAL-URL:https://thevra.co.uk
X-WR-CALDESC:Events for The Vehicle Remarketing Association
REFRESH-INTERVAL;VALUE=DURATION:PT1H
X-Robots-Tag:noindex
X-PUBLISHED-TTL:PT1H
BEGIN:VTIMEZONE
TZID:Europe/London
BEGIN:DAYLIGHT
TZOFFSETFROM:+0000
TZOFFSETTO:+0100
TZNAME:BST
DTSTART:20180325T010000
END:DAYLIGHT
BEGIN:STANDARD
TZOFFSETFROM:+0100
TZOFFSETTO:+0000
TZNAME:GMT
DTSTART:20181028T010000
END:STANDARD
BEGIN:DAYLIGHT
TZOFFSETFROM:+0000
TZOFFSETTO:+0100
TZNAME:BST
DTSTART:20190331T010000
END:DAYLIGHT
BEGIN:STANDARD
TZOFFSETFROM:+0100
TZOFFSETTO:+0000
TZNAME:GMT
DTSTART:20191027T010000
END:STANDARD
BEGIN:DAYLIGHT
TZOFFSETFROM:+0000
TZOFFSETTO:+0100
TZNAME:BST
DTSTART:20200329T010000
END:DAYLIGHT
BEGIN:STANDARD
TZOFFSETFROM:+0100
TZOFFSETTO:+0000
TZNAME:GMT
DTSTART:20201025T010000
END:STANDARD
BEGIN:DAYLIGHT
TZOFFSETFROM:+0000
TZOFFSETTO:+0100
TZNAME:BST
DTSTART:20210328T010000
END:DAYLIGHT
BEGIN:STANDARD
TZOFFSETFROM:+0100
TZOFFSETTO:+0000
TZNAME:GMT
DTSTART:20211031T010000
END:STANDARD
END:VTIMEZONE
BEGIN:VEVENT
DTSTART;TZID=Europe/London:20210318T100000
DTEND;TZID=Europe/London:20210318T104500
DTSTAMP:20260421T025907
CREATED:20210119T111214Z
LAST-MODIFIED:20210316T094931Z
UID:14197-1616061600-1616064300@thevra.co.uk
SUMMARY:New Normal Series Webinar 3
DESCRIPTION:Date: March 18 2021 \nTime: 10am-10:45am \nTopic: The current and future values of EVs \nSpeakers: \n\nAnthony Machin\, head of content at Glass’s\nChris Plumb\, senior valuations editor at Cap hpi\nJon Davies\, brand partnership director at AutoTrader\nRupert Pontin\, director of insight at Cazana\nProfessor Tim Lenton from the University of Exeter\n\nOrganizations: \n\nUniversity of Exeter\nGlass’s\nCap hpi\nAutoTrader\nCazana\n\n  \nUpcoming important dates: \n\nJuly 8 2021: VRA AGM – more details to follow\nSeptember 16 2021 – more details to follow\nNovember 25 2021: VRA Seminar – more details to follow
URL:https://thevra.co.uk/event/new-normal-series-webinar-3/
END:VEVENT
BEGIN:VEVENT
DTSTART;TZID=Europe/London:20210211T100000
DTEND;TZID=Europe/London:20210211T104500
DTSTAMP:20260421T025907
CREATED:20210119T111040Z
LAST-MODIFIED:20210129T121908Z
UID:14194-1613037600-1613040300@thevra.co.uk
SUMMARY:New Normal Series Webinar 2
DESCRIPTION:Date: February 11 2021 \nTime: 10am-10:45am \nTopic: The first of two sessions covering electric vehicles \nSpeakers:  \n\nOwen Edwards\, an associate director and automotive specialist at Grant Thornton\nTom Callow\, head of external affairs at BP Pulse\n\n\n\nOrganisations: \n\nGrant Thornton\nBP Pulse\n\nUpcoming important dates: \n\nJuly 8 2021: VRA AGM – more details to follow\nSeptember 16 2021 – more details to follow\nNovember 25 2021: VRA Seminar – more details to follow
URL:https://thevra.co.uk/event/new-normal-series-webinar-2/
END:VEVENT
BEGIN:VEVENT
DTSTART;TZID=Europe/London:20210121T100000
DTEND;TZID=Europe/London:20210121T104500
DTSTAMP:20260421T025907
CREATED:20210119T110159Z
LAST-MODIFIED:20210119T111927Z
UID:14185-1611223200-1611225900@thevra.co.uk
SUMMARY:New Normal Series Webinar 1
DESCRIPTION:Date: January 21 2021 \nTime: 10am – 10:45am \nTopic: The implications of the Brexit deal and how it is likely to impact on everything from customs processes through to the future of the UK motor industry. \nSpeakers: \n\nDavid Bailey\, professor of business economics at the University of Birmingham’s Business School\nGlyn Edwards\, VAT director at MHA McIntyre Hudson\n\nOrganizations: \nUniversity of Birmingham Business School \nMHA McIntyre Hudson \n  \nUpcoming important dates: \n\nJuly 8 2021: VRA AGM – more details to follow\nSeptember 16 2021 – more details to follow\nNovember 25 2021: VRA Seminar – more details to follow
URL:https://thevra.co.uk/event/new-normal-series-webinar-1/
END:VEVENT
BEGIN:VEVENT
DTSTART;TZID=Europe/London:20201203T100000
DTEND;TZID=Europe/London:20201203T103000
DTSTAMP:20260421T025907
CREATED:20210119T122250Z
LAST-MODIFIED:20210119T122250Z
UID:14236-1606989600-1606991400@thevra.co.uk
SUMMARY:Outlook Series - The Impact of Brexit on the Automotive Industry and the Economic Outlook for 2021
DESCRIPTION:Date: December 3 2020 \nTime: 10am-10.30am approx. \nSpeakers: David Bailey BCU\, Owen Edwards Grant Thornton \nOrganizations: \n\nBCU\nGrant Thornton\n\nIf you want to catch up with this webinar – click here to listen back
URL:https://thevra.co.uk/event/outlook-series-the-impact-of-brexit-on-the-automotive-industry-and-the-economic-outlook-for-2021/
END:VEVENT
BEGIN:VEVENT
DTSTART;VALUE=DATE:20201125
DTEND;VALUE=DATE:20201126
DTSTAMP:20260421T025907
CREATED:20191218T102445Z
LAST-MODIFIED:20191218T102445Z
UID:12166-1606262400-1606348799@thevra.co.uk
SUMMARY:VRA Seminar (TBC)
DESCRIPTION:
URL:https://thevra.co.uk/event/vra-seminar-tbc/
LOCATION:TBC
END:VEVENT
BEGIN:VEVENT
DTSTART;TZID=Europe/London:20201119T100000
DTEND;TZID=Europe/London:20201119T103000
DTSTAMP:20260421T025907
CREATED:20210119T122057Z
LAST-MODIFIED:20210119T122109Z
UID:14233-1605780000-1605781800@thevra.co.uk
SUMMARY:Outlook Series - Vehicle Retailing in 2021
DESCRIPTION:Date: November 19 2020 \nTime: 10am-10.30am approx. \nSpeakers: Mike Jones ASE Global\, Philip Nothard Cox Automotive \nOrganizations: \n\nASE Global\nCox Automotive\n\nIf you want to catch up with this webinar – click here to listen back
URL:https://thevra.co.uk/event/outlook-series-vehicle-retailing-in-2021/
END:VEVENT
BEGIN:VEVENT
DTSTART;TZID=Europe/London:20201105T100000
DTEND;TZID=Europe/London:20201105T103000
DTSTAMP:20260421T025907
CREATED:20210119T121900Z
LAST-MODIFIED:20210119T121900Z
UID:14231-1604570400-1604572200@thevra.co.uk
SUMMARY:Outlook Series - The New and Used Car Market in 2021
DESCRIPTION:Date: November 5 2020 \nTime: 10am-10.30am approx. \nSpeakers:  \nDerren Martin CAP\, Rupert Pontin Cazana\, Jayson Whittington Glass’ \nOrganizations: \n\ncap-hpi\nCazana\nGlass’s\n\nIf you want to catch up with this webinar – click here to listen back
URL:https://thevra.co.uk/event/outlook-series-the-new-and-used-car-market-in-2021/
END:VEVENT
BEGIN:VEVENT
DTSTART;TZID=Europe/London:20201015T100000
DTEND;TZID=Europe/London:20201015T103000
DTSTAMP:20260421T025907
CREATED:20210119T121653Z
LAST-MODIFIED:20210119T121708Z
UID:14228-1602756000-1602757800@thevra.co.uk
SUMMARY:Outlook Series - Possible Coronavirus Scenarios in 2021
DESCRIPTION:Date: October 15 2020 \nTime: 10am-10.30am approx. \nSpeakers: Steve Freeman MHA\n \nOrganizations: \n\nMHA\n\nIf you want to catch up with this webinar – click here to listen back
URL:https://thevra.co.uk/event/outlook-series-possible-coronavirus-scenarios-in-2021/
END:VEVENT
BEGIN:VEVENT
DTSTART;TZID=Europe/London:20200923T100000
DTEND;TZID=Europe/London:20200923T140000
DTSTAMP:20260421T025907
CREATED:20191218T102310Z
LAST-MODIFIED:20191218T102310Z
UID:12164-1600855200-1600869600@thevra.co.uk
SUMMARY:VRA Member Meeting Sept
DESCRIPTION:
URL:https://thevra.co.uk/event/vra-member-meeting-sept/
LOCATION:GEFCO\, Central Boulevard\, Prologis Park\, Coventry\, \, CV6 4BX
END:VEVENT
BEGIN:VEVENT
DTSTART;TZID=Europe/London:20200910T100000
DTEND;TZID=Europe/London:20200910T103000
DTSTAMP:20260421T025907
CREATED:20210119T121455Z
LAST-MODIFIED:20210119T121455Z
UID:14226-1599732000-1599733800@thevra.co.uk
SUMMARY:How to Stay Well in a Time of Crisis - Mental Health
DESCRIPTION:Date: September 10 2020 \nTime: 10am-10.30am approx. \nSpeakers: Prash Kotecha\, Rachel Clift BEN\, Derren Martin CAP HPI\, James Cox moderated by Curtis Hutchinson \nOrganizations: \n\nBEN\ncap-hpi\n\nIf you want to catch up with this webinar – click here to listen back
URL:https://thevra.co.uk/event/how-to-stay-well-in-a-time-of-crisis-mental-health/
END:VEVENT
BEGIN:VEVENT
DTSTART;TZID=Europe/London:20200703T100000
DTEND;TZID=Europe/London:20200703T133000
DTSTAMP:20260421T025907
CREATED:20210119T121215Z
LAST-MODIFIED:20210119T121215Z
UID:14224-1593770400-1593783000@thevra.co.uk
SUMMARY:Coronavirus\, remarketing and VRA AGM
DESCRIPTION:Date: July 3 2020 \nTime: 10am-1.30pm approx. \nSpeakers: Lee Swinerd KPMG\, Mike Jones ASE Global\, Dr Justin Varney\, Bham City Council \nOrganizations: \n\nKPMG\nASE Global\nBirmingham City Council\n\nIf you want to catch up with this webinar – click here to listen back
URL:https://thevra.co.uk/event/coronavirus-remarketing-and-vra-agm/
END:VEVENT
BEGIN:VEVENT
DTSTART;TZID=Europe/London:20200701T100000
DTEND;TZID=Europe/London:20200701T140000
DTSTAMP:20260421T025907
CREATED:20191218T102118Z
LAST-MODIFIED:20191218T102118Z
UID:12161-1593597600-1593612000@thevra.co.uk
SUMMARY:VRA AGM and Member Meeting July
DESCRIPTION:
URL:https://thevra.co.uk/event/vra-agm-and-member-meeting-july/
LOCATION:BCA Perry Barr\, College Rd\, Birmingham\, B44 8DP\, United Kingdom
END:VEVENT
BEGIN:VEVENT
DTSTART;TZID=Europe/London:20200604T100000
DTEND;TZID=Europe/London:20200604T103000
DTSTAMP:20260421T025907
CREATED:20210119T120939Z
LAST-MODIFIED:20210119T120939Z
UID:14222-1591264800-1591266600@thevra.co.uk
SUMMARY:Industry bodies combine to provide unified safety guidance on COVID-19 and remarketing
DESCRIPTION:Date: June 4 2020 \nTime: 10am-10.30am approx. \nSpeakers: Adam Barnes\, Derren Martin\, Louise Wallis NFDA\, Amanda Brandon\, Adrian Dally \nOrganizations: \n\nNFDA\nFLA\nBVRLA\ncap-hpi\n\nIf you want to catch up with this webinar – click here to listen back
URL:https://thevra.co.uk/event/industry-bodies-combine-to-provide-unified-safety-guidance-on-covid-19-and-remarketing/
END:VEVENT
BEGIN:VEVENT
DTSTART;TZID=Europe/London:20200513T100000
DTEND;TZID=Europe/London:20200513T140000
DTSTAMP:20260421T025907
CREATED:20191218T101915Z
LAST-MODIFIED:20191218T101915Z
UID:12159-1589364000-1589378400@thevra.co.uk
SUMMARY:VRA Member Meeting May
DESCRIPTION:
URL:https://thevra.co.uk/event/vra-member-meeting-may/
LOCATION:Auto Trader\, 1\, Tony Wilson Place\, First Street\,\, Manchester\, M15 4FN
END:VEVENT
BEGIN:VEVENT
DTSTART;TZID=Europe/London:20200513T100000
DTEND;TZID=Europe/London:20200513T103000
DTSTAMP:20260421T025907
CREATED:20210119T120509Z
LAST-MODIFIED:20210119T120509Z
UID:14220-1589364000-1589365800@thevra.co.uk
SUMMARY:Covid 4 webinar
DESCRIPTION:Date: May 13 2020 \nTime: 10am-10.30am approx. \nSpeakers: \nJane Pocock Copart\, Steve Freeman MHA\, Jon Pollock MHA\, Rupert Pontin Cazana \nOrganizations: \n\nCopart\nMHA\nCazana\n\nIf you want to catch up with this webinar – click here to listen back
URL:https://thevra.co.uk/event/covid-4-webinar/
END:VEVENT
BEGIN:VEVENT
DTSTART;TZID=Europe/London:20200423T100000
DTEND;TZID=Europe/London:20200423T103000
DTSTAMP:20260421T025907
CREATED:20210119T120028Z
LAST-MODIFIED:20210119T120028Z
UID:14218-1587636000-1587637800@thevra.co.uk
SUMMARY:Covid 3 webinar
DESCRIPTION:Date: April 23 2020 \nTime: 10am-10.30am approx. \nSpeakers: \nDavid Bailey BCU\, Adrian Dally FLA\, Amanda Brandon BVRLA \nOrganizations: \n\nBCU\nFLA\nBVLRA\n\nIf you want to catch up with this webinar – click here to listen back
URL:https://thevra.co.uk/event/covid-3-webinar/
END:VEVENT
BEGIN:VEVENT
DTSTART;TZID=Europe/London:20200408T100000
DTEND;TZID=Europe/London:20200408T103000
DTSTAMP:20260421T025907
CREATED:20210119T115750Z
LAST-MODIFIED:20210119T115750Z
UID:14216-1586340000-1586341800@thevra.co.uk
SUMMARY:Covid 2 webinar
DESCRIPTION:Date: April 8 2020 \nTime: 10am-10.30am approx. \nSpeakers: \nAndy Shields Indicata\, Nigel Morris\, Jon Beveridge – MHA \nOrganizations: \n\nMHA\nIndicata\n\nIf you want to catch up with this webinar – click here to listen back
URL:https://thevra.co.uk/event/covid-2-webinar/
END:VEVENT
BEGIN:VEVENT
DTSTART;TZID=Europe/London:20200326T100000
DTEND;TZID=Europe/London:20200326T103000
DTSTAMP:20260421T025907
CREATED:20210119T115407Z
LAST-MODIFIED:20210119T115407Z
UID:14212-1585216800-1585218600@thevra.co.uk
SUMMARY:Covid 1 webinar
DESCRIPTION:Date: March 26 2020 \nTime: 10am-10.30am approx. \nSpeakers: \nSteve Freeman MHA\, Jon Butler\, Auctions – led by BCA/Manheim\, Dealers – led by Auto Trader\, Vehicle values – led by Glass Guide\, Logistics – led by Dekra \nOrganizations: \n\nMHA\nBCA\nManheim\nAuto Trader\nGlass’s\nDekra\n\nIf you want to catch up with this webinar – click here to listen back
URL:https://thevra.co.uk/event/covid-1-webinar/
END:VEVENT
BEGIN:VEVENT
DTSTART;TZID=Europe/London:20200318T100000
DTEND;TZID=Europe/London:20200318T140000
DTSTAMP:20260421T025907
CREATED:20191218T101503Z
LAST-MODIFIED:20191218T101503Z
UID:12157-1584525600-1584540000@thevra.co.uk
SUMMARY:VRA Member Meeting March
DESCRIPTION:
URL:https://thevra.co.uk/event/vra-member-meeting-march/
LOCATION:Geldards\, Pride Pl\, Derby\, DE24 8QR\, United Kingdom
END:VEVENT
BEGIN:VEVENT
DTSTART;TZID=Europe/London:20200129T100000
DTEND;TZID=Europe/London:20200129T140000
DTSTAMP:20260421T025907
CREATED:20191218T101149Z
LAST-MODIFIED:20191218T101149Z
UID:12153-1580292000-1580306400@thevra.co.uk
SUMMARY:VRA Member Meeting January
DESCRIPTION:
URL:https://thevra.co.uk/event/vra-member-meeting-january/
LOCATION:Whittle Building\, Bruntingthorpe Airfield\, Proving Ground Bruntingthorpe\, Nr Lutterworth\, Leicestershire\, LE17 5QS.\, LE17 5QS
END:VEVENT
BEGIN:VEVENT
DTSTART;TZID=Europe/London:20191127T093000
DTEND;TZID=Europe/London:20191127T160000
DTSTAMP:20260421T025907
CREATED:20181123T160709Z
LAST-MODIFIED:20190909T083401Z
UID:5371-1574847000-1574870400@thevra.co.uk
SUMMARY:VRA Seminar
DESCRIPTION:VRA SEMINAR 2019 – 2020 VISION – SPONSORED BY CAZANA \nTime: 9.30 am – 4.00 pm\nDate: Wednesday 27 November 2019\nVenue – The Slate\, Warwick University\, Coventry CV4 7SH \nRegister for the VRA Seminar here: bit.ly/vra2711. \nWe’re pleased to announce details about this year’s VRA seminar\, which is being sponsored by Cazana. \nCalled “2020 Vision\,” it will take a wide-ranging look at issues likely to affect the used car and van markets next year\, ranging from a possible recession and Brexit through to the latest in online retailing and maintaining dealer margins\, as well as examining future mobility and consumer behaviour. \nThe event will take place at The Slate\, Warwick University on Wednesday 27th November\, and there are free places for up to 150 delegates. Registration is now available at bit.ly/vra2711 to all VRA members and anyone who works in the automotive sector\, and we would encourage you to register for your place as soon as possible. \nSam Watkins\, chair at the VRA\, said: “It is no exaggeration to say that the factors being faced by the remarketing sector into the next year are unprecedented in their scope and scale. \n“At a macroeconomic level\, we have the highly unpredictable effects of Brexit\, at a vehicle level we have electric cars starting to arrive in the sector in larger numbers\, while in retailing we have everything from increased online presence through to mobility solutions. \n“Taken together\, these subjects could bring about genuinely structural changes to remarketing. What we will be doing is looking at the picture in a format that is designed to be fast and informative\, providing as much information as possible within a day to VRA members and other delegates ranging from fleets to manufacturers and dealers to leasing companies.” \nRupert Pontin\, Director of Insight at Cazana\, added: “We’re very excited to be part of this year’s seminar and pleased to be working with the VRA on 2020 Vision. Our award-winning realtime technology has the potential to help many businesses in the remarketing sector navigate next year more effectively and make better margins. We are looking forward to using this exciting day to get our vision across to this important industry audience at this time of political and economic uncertainty and change.” \nDetails on speakers will be released later this month. \nTo register for the VRA Seminar on Wednesday 27 November 2019 go to: bit.ly/vra2711. \nAbout our sponsors: \nCazana is a disruptive force in the field of vehicle data and valuations. Adopting a novel new methodology\, Cazana uses big data and AI instead of sampled data and editing to produce an impartial\, accurate view of every vehicle’s value\, provenance and market position.
URL:https://thevra.co.uk/event/vra-member-meeting-6/
LOCATION:The Slate\, Warwick University\, Coventry CV4 7SH\, Coventry\, \, Coventry CV4 7SH\, United Kingdom
CATEGORIES:Meetings
ATTACH;FMTTYPE=image/jpeg:https://thevra.co.uk/wp-content/uploads/2018/11/Seminar-Image.jpg
END:VEVENT
BEGIN:VEVENT
DTSTART;TZID=Europe/London:20190918T100000
DTEND;TZID=Europe/London:20190918T130000
DTSTAMP:20260421T025907
CREATED:20181123T160442Z
LAST-MODIFIED:20181123T160802Z
UID:5368-1568800800-1568811600@thevra.co.uk
SUMMARY:VRA Member Meeting
DESCRIPTION:Details to follow
URL:https://thevra.co.uk/event/vra-member-meeting-5/
LOCATION:Geldards\, Pride Pl\, Derby\, DE24 8QR\, United Kingdom
CATEGORIES:Meetings
END:VEVENT
BEGIN:VEVENT
DTSTART;TZID=Europe/London:20190710T100000
DTEND;TZID=Europe/London:20190710T130000
DTSTAMP:20260421T025907
CREATED:20181123T160338Z
LAST-MODIFIED:20190830T110755Z
UID:5366-1562752800-1562763600@thevra.co.uk
SUMMARY:VRA Member Meeting
DESCRIPTION:Following the AGM\, confirmed speakers and topics for this meeting are: \n\nRupert Pontin\, Cazana provides an update on the first half of 2019 and what to expect from the rest of the year.\nDavid Bailey\, professor of business economics at the Birmingham Business School\, University of Birmingham will speak on how Brexit is affecting the motor industry\, as well as looking at the likely implications of a variety of future scenarios.\nMike Jones\, chairman of automotive business specialist ASE Global\, will examine the state of the new and used car and van markets so far in 2019\, and look at how they are set to develop over the remainder of the year and into 2020.
URL:https://thevra.co.uk/event/vra-member-meeting-4/
LOCATION:BCA Perry Barr\, College Rd\, Birmingham\, B44 8DP\, United Kingdom
CATEGORIES:Meetings
END:VEVENT
BEGIN:VEVENT
DTSTART;TZID=Europe/London:20190515T100000
DTEND;TZID=Europe/London:20190515T130000
DTSTAMP:20260421T025907
CREATED:20181123T160226Z
LAST-MODIFIED:20190429T082310Z
UID:5363-1557914400-1557925200@thevra.co.uk
SUMMARY:VRA Member Meeting
DESCRIPTION:Confirmed speakers and topics for this meeting are: \n\nNick King of Auto Trader looks at emerging ownership and access models for new and used cars\, ranging from personal leasing through to subscription and peer to peer hiring.\nRichard Hollis of Jardine Motors Group brings a retailer perspective\, explaining how new online technology is changing the car sales process and how this affects the ways in which the company deals with the remarketing sector.\nSam Watkins\, VRA Chair and Kay Hudson of International Vehicle Solutions provide an update on the VRA’s plans to introduce a range of remarketing safety initiatives.\nJayson Whittington of Glass’s Guide provides an overview of current new and used market trends and how these areas are likely to develop over the next few months.\n\nPlease\, could you confirm that you will be attending by e-mailing info@thevra.co.uk.
URL:https://thevra.co.uk/event/vra-member-meeting-3/
LOCATION:Auto Trader\, 1\, Tony Wilson Place\, First Street\,\, Manchester\, M15 4FN
CATEGORIES:Meetings
END:VEVENT
BEGIN:VEVENT
DTSTART;TZID=Europe/London:20190314T100000
DTEND;TZID=Europe/London:20190314T130000
DTSTAMP:20260421T025907
CREATED:20181123T160007Z
LAST-MODIFIED:20190429T082600Z
UID:5359-1552557600-1552568400@thevra.co.uk
SUMMARY:VRA Member Meeting
DESCRIPTION:Confirmed speakers and topics for this meeting are: \n\nDean Bowkett of Bowkett Consulting\, who will report on the latest developments in the leasing sector\nPaul Harrison of Leasing.com will be looking at key issues affecting both business and personal leasing\nNigel Dann of Anglia UK will speak on changing attitudes towards PCP/vehicle termination collection and damage.\nDerren Martin of cap hpi – latest market update\nWe’ll also have discussions on other hot topics\n\nIf you haven’t already\, please confirm that you will be attending.
URL:https://thevra.co.uk/event/vra-member-meeting-2/
LOCATION:GEFCO\, Central Boulevard\, Prologis Park\, Coventry\, \, CV6 4BX
CATEGORIES:Meetings
END:VEVENT
BEGIN:VEVENT
DTSTART;TZID=Europe/London:20190123T100000
DTEND;TZID=Europe/London:20190123T130000
DTSTAMP:20260421T025907
CREATED:20181123T155719Z
LAST-MODIFIED:20190108T091746Z
UID:5356-1548237600-1548248400@thevra.co.uk
SUMMARY:VRA Member Meeting
DESCRIPTION:Confirmed speakers and topics for this meeting are: \n\nPresentation: UK EV drivers for change – Ian Featherstone\, Energy Saving Trust\n\nIan will outline the background drivers for EV and hybrid adoption\, vehicle and charging developments\, the EST’s engagement with the remarketing sector\, and the challenges and opportunities of selling used hybrids and EVs. \n\nPresentation: Business challenges to meet EV shift – Steve Scofield\, Institute of Motor Industry\n\nSteve will then look at the skills needed across the UK to meet changing job roles related to EVs within the remarketing and garage sectors\, best practice examples deployed by UK businesses\, and Government support regarding zero emissions. \n\nMarket update: Jayson Whittington – Glass’s Guide  \n\nPlease confirm attendance by emailing info@thevra.co.uk.
URL:https://thevra.co.uk/event/vra-member-meeting/
LOCATION:Fleet Auction Group\, Stephenson Industrial Estate\, Brindley Rd\, Coalville\, Leicester\, LE67 3HG\, United Kingdom
CATEGORIES:Meetings
END:VEVENT
BEGIN:VEVENT
DTSTART;TZID=Europe/London:20181122T090000
DTEND;TZID=Europe/London:20181122T150000
DTSTAMP:20260421T025907
CREATED:20180502T122158Z
LAST-MODIFIED:20181120T151724Z
UID:359-1542877200-1542898800@thevra.co.uk
SUMMARY:VRA 2018 Seminar
DESCRIPTION:“The Challenges of 2019” \nCranmore Park Exhibition Centre\, Solihull\n22 November 2018 \nSponsored by Manheim \nWe’re pleased to announce the VRA’s annual seminar for this year. \n“The Challenges of 2019” is designed to provide a complete briefing about all of the major trends and legislative changes affecting businesses involved in car and van remarketing including fleets\, dealers and suppliers in a compact\, four-hour format. \nKey speakers confirmed include: \n\nJonathan Butler of Geldards on the latest ASA developments for dealers\nJason King of KeeResources on WLTP\nOwen Edwards of Grant Thornton on dealer economics\nPhilip Nothard of Manheim on fuel trends\nPaul Marchment of Arval on hydrogen cars\nMore will be announced soon\n\nGlenn Sturley\, chair at the VRA\, said: “We adopted this conference format last year in order to provide the maximum amount of useful information in the shortest time. It worked very well and was very popular\, attracting more than 100 delegates. \n“The fact is that 2019 looks set to be another difficult year in the remarketing sector\, with issues ranging from Brexit at a macroeconomic level ranging to the impact of WLTP throughout the motor industry. \n“So\, once again\, we are aiming to deliver a detailed overview designed to help everyone who works in remarketing plan more successfully for the year ahead. We’d also like to thank Manheim\, whose sponsorship makes this event possible.” \nLaura Lunn\, marketing director at Manheim\, said: “The VRA plays a crucial role in our industry and their annual seminar is quickly becoming established as a ‘must attend’ event on the remarketing calendar. As well as joining the panel of speakers\, we’ll also be sharing the latest thoughts and insights from our Experience Better white paper series. This is an incredibly dynamic time for the remarketing sector and this is a superb forum at which to stimulate the debate.” \nAttendance at the conference is free to anyone who is working in any part of the automotive sector\, so you are welcome to bring along colleagues. \nBook up early to secure your place by e-mailing info@thevra.co.uk.
URL:https://thevra.co.uk/event/vra-member-meeting-november/
LOCATION:Cranmore Park Conference & Exhibition Centre Cranmore Ave\, Shirley\, Solihull B90 4LE\, Cranmore Ave\, Shirley\, Solihull\, B90 4LE
CATEGORIES:Meetings
END:VEVENT
BEGIN:VEVENT
DTSTART;TZID=Europe/London:20180921T100000
DTEND;TZID=Europe/London:20180921T140000
DTSTAMP:20260421T025907
CREATED:20180502T122033Z
LAST-MODIFIED:20180822T075354Z
UID:356-1537524000-1537538400@thevra.co.uk
SUMMARY:VRA Member Meeting September
DESCRIPTION:Confirmed speakers and topics for this meeting are: \n\nWill 2019 be the year of the used van? – James Davis of Manheim looks at the current factors affecting the LCV sector and explains why next year could mark a peak for the used van market.\nBattered\, bruised but not beaten: the car retailer’s view – Karl Davis of Coachworks Consulting offers a range of new ideas on how to get the most out of used car retailing plus an update on other areas of dealer best practice.\nCurrent market update – Rupert Pontin of Cazana delivers an in-depth analysis of the latest used car market statistics and developments\, providing the information you need to make informed and responsible business decisions.\n\nIf you have any agenda items please let us know by return.
URL:https://thevra.co.uk/event/vra-members-meeting-september/
LOCATION:Manheim\, Bath Ln\, Bruntingthorpe\, Lutterworth\, LE17 5QS\, United Kingdom
CATEGORIES:Meetings
END:VEVENT
BEGIN:VEVENT
DTSTART;TZID=Europe/London:20180711T100000
DTEND;TZID=Europe/London:20180711T140000
DTSTAMP:20260421T025907
CREATED:20180502T121547Z
LAST-MODIFIED:20180620T120520Z
UID:353-1531303200-1531317600@thevra.co.uk
SUMMARY:VRA Members Meeting July
DESCRIPTION:Introduction and ASA ruling update – Jonathan Butler\, Geldards\n\n\nPresentation: How to thrive in a competitive marketplace – Nick King\, AutoTrader\n\n\nDigital transformation is all well and good but many of us tend to see additional complexity. If things are easy we’re more likely to do it more often.\nWe use SMS because it’s easy\, Amazon has 34 million products but we just see what’s relevant to us. In automotive\, buying a car is complex enough without thinking about finance\, what are the winners doing today to make it easy?\nWho else is using emerging technology to change business\, make a different and improve customer experiences? What can we learn from them?\n\n\nPresentation: Current state of the online motor retail in the UK – Rob Severs\, iVendi\n\n\nOverview of the latest in-depth research into online motor retail\nLook into the current attitudes of car buyers\, dealers and manufacturers in this fast develop sector of the market\nHow are these attitudes likely to develop or change in the medium term?\n\n\nMarket update: Derren Martin – CAP HPI\n\n\nThe new and used car market\nThe impact of alternative fuel vehicles on the sector\nMarket discussion from a defleet\, remarketing and retail perspective\n\n 
URL:https://thevra.co.uk/event/vra-members-meeting-july/
LOCATION:Geldards\, Pride Pl\, Derby\, DE24 8QR\, United Kingdom
CATEGORIES:Meetings
END:VEVENT
BEGIN:VEVENT
DTSTART;TZID=Europe/London:20180606T100000
DTEND;TZID=Europe/London:20180606T140000
DTSTAMP:20260421T025907
CREATED:20180502T115016Z
LAST-MODIFIED:20180502T115016Z
UID:350-1528279200-1528293600@thevra.co.uk
SUMMARY:VRA AGM and June Meeting
DESCRIPTION:Presenters at the meeting will be – \n\nBeth Davies\, CAP-HPI – High Level Overview of WLPT\nPaul Smith\, RLA Group – What’s Fuelling Buyers Car Purchasing Decisions\nGlyn Fisher\, BEN – The Support Service for the Automotive Industry\n\nAGM details are now confirmed\, click here for more information – AGM Notice
URL:https://thevra.co.uk/event/vra-agm-june-meeting/
LOCATION:BCA Perry Barr\, College Rd\, Birmingham\, B44 8DP\, United Kingdom
CATEGORIES:Meetings
END:VEVENT
END:VCALENDAR